BEGIN:VCALENDAR
PRODID:www.bad-klein.de
VERSION:2.0
METHOD:PUBLISH
BEGIN:VEVENT
CLASS:PUBLIC
DTSTART:20261207T170000
DTEND:20261207T190000
CREATED:20260424T114900
DTSTAMP:20260424T114900
LOCATION:Nußhausen
SEQUENCE:0
SUMMARY;LANGUAGE=de:Heiztag - Informationsveranstaltung
END:VEVENT
END:VCALENDAR